Workbook

Sheet Contributions
B2: GROUP CONTRIBUTIONS - 2026 / 2027
B3: Group | C3: Sep - 2026 | D3: Oct - 2026 | E3: Nov - 2026 | F3: Dec - 2026 | G3: Jan - 2027 | H3: Feb - 2027 | I3: Mar - 2027 | J3: Apr - 2027 | K3: May - 2027 | L3: Jun - 2027 | M3: Jul - 2027 | N3: Aug - 2027 | O3: GSO | P3: TOTAL
A4: 1 | B4: Airfield 2 meetings | C4: 2706 | P4: =SUM(C4:N4) -> 2706
A5: 2 | B5: Benoni City Big Book | C5: 1180 | P5: =SUM(C5:N5) -> 1180
A6: 3 | B6: Benoni lunch 2 meetings | P6: =SUM(C6:N6) -> 0
A7: 4 | B7: Benoni Recovery | P7: =SUM(C7:N7) -> 0
A8: 5 | B8: Benoni South | C8: 860 | P8: =SUM(C8:N8) -> 860
A9: 6 | B9: Brakpan | C9: 300 | P9: =SUM(C9:N9) -> 300
A10: 7 | B10: Courage to Change | P10: =SUM(C10:N10) -> 0
A11: 8 | B11: Edenvale - Thursday | P11: =SUM(C11:N11) -> 0
A12: 9 | B12: Edenvale Lunch 3 meetings | C12: 1995 | P12: =SUM(C12:N12) -> 1995
A13: 10 | B13: HATS | C13: 50 | P13: =SUM(C13:N13) -> 50
A14: 11 | B14: Heidelburg | P14: =SUM(C14:N14) -> 0
A15: 12 | B15: Highveld Group | P15: =SUM(C15:N15) -> 0
A16: 13 | B16: House of Mercy | P16: =SUM(C16:N16) -> 0
A17: 14 | B17: Katlehong | P17: =SUM(C17:N17) -> 0
A18: 15 | B18: Kempton Park | P18: =SUM(C18:N18) -> 0
A19: 16 | B19: Live and Let Live | P19: =SUM(C19:N19) -> 0
A20: 17 | B20: Springs | P20: =SUM(C20:N20) -> 0
A21: 18 | B21: Springs Online | C21: 1500 | P21: =SUM(C21:N21) -> 1500
A22: 19 | B22: Sunnyridge | P22: =SUM(C22:N22) -> 0
A23: 20 | B23: Tembisa Sunday | P23: =SUM(C23:N23) -> 0
A24: 21 | B24: Word of Mouth | P24: =SUM(C24:N24) -> 0
A25: 22 | B25: Step 11 / online | P25: =SUM(C25:N25) -> 0
A26: 23 | B26: Sober at Sunset | P26: =SUM(C26:N26) -> 0
A27: 24 | B27: Personal Contributions | C27: 180 | P27: =SUM(C27:N27) -> 180
A28: 25 | B28: Zoom / Rosebank | P28: =SUM(C28:N28) -> 0
A29: 26 | B29: 4th Dimension | C29: 100 | P29: =SUM(C29:N29) -> 100
B30: TOTAL | C30: =SUM(C4:C29) -> 8871 | D30: =SUM(D4:D29) -> 0 | E30: =SUM(E4:E29) -> 0 | F30: =SUM(F4:F29) -> 0 | G30: =SUM(G4:G29) -> 0 | H30: =SUM(H4:H29) -> 0 | I30: =SUM(I4:I29) -> 0 | J30: =SUM(J4:J29) -> 0 | ... N30: =SUM(N4:N29) -> 0 | P30: =SUM(P4:P29) -> 8871

Sheet Cash Book
A1: CASH BOOK - September - 2026
D3: RECEIPTS | M3: PAYMENTS
E4: OFFICE | G4: INTERGROUP | M4: OFFICE | R4: INTERGROUP
A5: Date | B5: Desciption | C5: Amt | D5: Contribution | E5: Literature | F5: Misc | G5: Rally | H5: Gratitude | I5: Events | J5: Banking | K5: GSO | M5: Literature | N5: Honorarium | O5: Rent | P5: Telephone | Q5: Web Site | R5: Rally | S5: Gratitude | T5: Events | U5: Banking | V5: Zoom | W5: GSO
A6: 22/05/2026 | B6: INV0145 - HOM | C6: 140 | E6: 140
A7: 29/05/2026 | B7: INV0146 - ELG | C7: 250 | F7: 250
A8: 29/05/2026 | B8: INV0147 - HOM | C8: 180 | E8: 180
A9: 01-09-2026 | B9: AA AIRFIELD GROUP | C9: 1300 | D9: 1300
A10: 01-09-2026 | B10: AA BRAKPAN CONTRIBUT | C10: 100 | D10: 100
A11: 01-09-2026 | B11: Venue Hire - BCMC - Rally 2026 | C11: -5550 | R11: 5550
A12: 02-09-2026 | B12: ELG AUGUST | C12: 924.7 | D12: 924.7
A13: 02-09-2026 | B13: CAPITEC LENNIE EASTERNS | C13: 50 | D13: 50
A14: 02-09-2026 | B14: BCM Church | C14: -2300 | O14: 2300
A15: 02-09-2026 | B15: Telkom | C15: -579.5 | P15: 579.5
A16: 02-09-2026 | B16: Website Hosting | C16: -170 | Q16: 170
A17: 03-09-2026 | B17: Notification Fee: E-mail | C17: -1 | U17: 1
A18: 05-09-2026 | B18: Wilma inv 82 | C18: 390 | G18: 390
A19: 05-09-2026 | B19: AA East rand | C19: 250 | G19: 250
A20: 05-09-2026 | B20: Dan, Rally + Shirt | C20: 200 | G20: 200
A21: 05-09-2026 | B21: Rally.Kerry.Annelise | C21: 100 | G21: 100
A22: 05-09-2026 | B22: AA | C22: 80 | G22: 80
A23: 05-09-2026 | B23: AA | C23: 60 | G23: 60
A24: 05-09-2026 | B24: AA East rand | C24: 50 | G24: 50
A25: 05-09-2026 | B25: CAPITEC RALLY DARREN | C25: 580 | G25: 580
A26: 05-09-2026 | B26: Tas Rally | C26: 300 | G26: 300
A27: 05-09-2026 | B27: JASON N MG | C27: 100 | G27: 100
A28: 05-09-2026 | B28: DEBBIE RALLY | C28: 100 | G28: 100
A29: 05-09-2026 | B29: AA RALLY - SUE MOSELEY | C29: 50 | G29: 50
... A38: 09-09-2026 | B38: RALLY AUCTION - PILLOWS | C38: 300 | G38: 300
A39: 09-09-2026 | B39: GSO inv104829 | C39: -1412.1 | M39: 1412.1
A40: 10-09-2026 | B40: Benoni City Big Book | C40: 630 | D40: 630
A41: 10-09-2026 | B41: Notification Fee: E-mail | C41: -0.5 | U41: 0.5
A42: 14-09-2026 | B42: ABSA BANK part zoom Bill sprin | C42: 1000 | D42: 1000
A43: 14-09-2026 | B43: Brent refund - Rally material | C43: -381 | R43: 381
A44: 15-09-2026 | B44: ELG CONTRIBUTION | C44: 484.4 | D44: 484.4
A45: 17-09-2026 | B45: INVESTECPBHeritage Braai - Bia | C45: 250 | I45: 250
A46: 18-09-2026 | B46: LITERATURE INV0185 | C46: 760 | E46: 760
A47: 18-09-2026 | B47: THE 4TH DIMENSION CONTRIB | C47: 100 | D47: 100
A48: 21-09-2026 | B48: KIMI_ELG CONTRIBUTIO | C48: 585.9 | D48: 585.9
A49: 22-09-2026 | B49: INVESTECPBSprings Online Group | C49: 500 | D49: 500
...

Sheet Receipts & Payment
A1: RECEIPTS & PAYMENTS ACCOUNT
A2: as at 30 SEP 2026
A3: Bank Balance B/F - 01 Sep 2026 | B3: 3622.22
A4: Income | B4: AMOUNT
A5: Incoming for the Month
A6: Contributions | B6: ='Cash Book'!D71 -> 8871
A7: OFFICE
A8: Literature | B8: ='Cash Book'!E71 -> 2764
A9: Misc | B9: ='Cash Book'!F71 -> 1590
A10: INTERGROUP
A11: Rally | B11: ='Cash Book'!G71 -> 17673.03
A12: Gratitude Dinner | B12: ='Cash Book'!H71 -> 0
A13: Events | B13: ='Cash Book'!I71 -> 3535
A15: Banking | B15: ='Cash Book'!J71 -> 0
A16: GSO | B16: ='Cash Book'!K71 -> 0
A18: Sub - Total Income | B18: =SUM(B6:B17) -> 34433.03
A20: Expenditure | B20: AMOUNT
A21: Payouts for the Month
A22: OFFICE
A23: Literature | B23: ='Cash Book'!M71 -> 1412.1
A24: Honorarium | B24: ='Cash Book'!N71 -> 5200
A25: Rent | B25: ='Cash Book'!O71 -> 2300
A26: Telephone | B26: ='Cash Book'!P71 -> 579.5
A27: Web Site Hosting and Zoom | B27: ='Cash Book'!Q71 -> 170
A28: INTERGROUP
A29: Rally | B29: ='Cash Book'!R71 -> 5931
A30: Gratitude Dinner | B30: ='Cash Book'!S71 -> 5000
A31: Events | B31: ='Cash Book'!T71 -> 0
A33: Banking | B33: ='Cash Book'!U71 -> 142.5
A34: Zoom
A35: GSO
A37: Sub - Total Expenses | B37: =SUM(B22:B36) -> 20735.1
A38: Nett of Income less Expenses | B38: =B18-B37 -> 13697.93
A40: Actual Current account balance 30/09/2026 | B40: =B3+B38 -> 17320.15
A42: Prudent Reserve and Special Funds | B42: ='[1]Prudent Reserve'!B94 -> 82959.75

Sheet Office Receipts
A1: DATE | B1: RECEIPT NO | C1: NAME | D1: GROUP | E1: LITERATURE | F1: MISC | G1: TOTAL | H1: DESCRIPTION
C3: PROVISIONAL REPORT FOR SEPTEMBER 2026
A4: 04/09/2026 | B4: INV0180 | C4: VIRUSHIN - S@S | E4: 240 | G4: 240
A5: 23/09/2026 | B5: INV0181 | C5: JO H - OFFICE | E5: 7 | F5: 1240 | G5: 1247 | H5: DEDUCT - JO H.
A6: 05/09/2026 | B6: INV0182 | C6: ER SPRING RALLY | E6: 2883 | G6: 2883 | H6: RALLY
A7: 08/09/2026 | B7: INV0183 | C7: ROXY - BRG | E7: 310 | G7: 310
A8: 11/09/2026 | B8: INV0184 | C8: NEIL - HOM | E8: 1100 | G8: 1100 | H8: PAID CASH 11/09/2026
A9: 18/09/2026 | B9: INV0185 | C9: JO H - THE 4TH DIM. | E9: 760 | G9: 760 | H9: PAID EFT 18/09/2026
A10: 21/09/2026 | B10: INV0186 | C10: KIMI - S@S | E10: 237 | G10: 237 | H10: PAID CASH 21/09/2026
D22: =SUM(D5:D19) -> 0 | E22: =SUM(E4:E20) -> 5537 | F22: =SUM(F4:F18) -> 1240 | G22: =SUM(G4:G20) -> 6777 | H22: Total invoiced
C25: OFFICE USE
C26: LESS DEDUCTIONS | G26: =SUM(G28:G34) -> 3254 | H26: (R5200-R3254=R1946 due to Jo H)
C27: DEDUCT IN SEPTEMBER
B28: INV0145 | G28: 140
B29: INV0146 | G29: 250
B30: INV0147 | G30: 180
B31: Overpaid August | G31: 100 | H31: ???
B32: INV0181 | G32: 1247
B33: INV0184 | G33: 1100
B34: INV0186 | G34: 237
B35: NB - INV0162 FROM JUNE HAS BEEN CANCELLED
A36: J. Havenga | B36: Leave days taken in 2026 - (1) - 02 APRIL + (14) 11th-28th AUGUST
B37: Sick days taken in 2026 - (2) - 14+15 JULY

Sheet Bank Statement
A1: Statement Enquiry :
A2: Account Number : | B2: 1903342503 | D2: =4922.22-1300 -> 3622.22
A3: Account Description : | B3: Main Acc
A4: Date | B4: Transactions | C4: Amount | D4: Balance
A5: 01-09-2026 | B5: AA AIRFIELD GROUP | C5: 1300 | D5: 4922.220000
A6: 01-09-2026 | B6: AA BRAKPAN CONTRIBUT | C6: 100 | D6: 5022.220000
A7: 02-09-2026 | B7: ELG AUGUST | C7: 924.7 | D7: 5946.920000
A8: 02-09-2026 | B8: CAPITEC LENNIE EASTERNS | C8: 50 | D8: 5996.920000
A9: 02-09-2026 | B9: BCM Church | C9: -2300 | D9: 3696.920000
A10: 02-09-2026 | B10: Telkom | C10: -579.5 | D10: 3117.420000
A11: 02-09-2026 | B11: Website Hosting | C11: -170 | D11: 2947.420000
A12: 03-09-2026 | B12: Notification Fee: E-mail | C12: -1 | D12: 2946.420000
A13: 05-09-2026 | B13: Wilma inv 82 | C13: 390 | D13: 3336.420000
A14: 05-09-2026 | B14: AA East rand | C14: 250 | D14: 3586.420000
A15: 05-09-2026 | B15: Dan, Rally + Shirt | C15: 200 | D15: 3786.420000
A16: 05-09-2026 | B16: Rally.Kerry.Annelise | C16: 100 | D16: 3886.420000
... A61: 30-09-2026 | B61: BRAKPAN GROUP | C61: 200 | D61: 22870.150000
D63: 22870.15
C64: BCMC | D64: 5550
D65: =D63-D64 -> 17320.15

Sheet Prudent Reserve
B1: AA EAST RAND
B2: CALL ACCOUNT
A3: PRUDENT RESERVE
A4: BCM | B4: 2300
A5: Telkom est | B5: 500
A6: Salary | B6: 5900
A7: Bank charges est | B7: 150
A8: Petty Cash | B8: 500
B9: =SUM(B4:B8) -> 9350 | C9: x3 | D9: =B9*3 -> 28050
B10: TOTAL | D10: =$D$9 -> 28050
A12: PRUDENT RESERVE
A13: b/f | B13: 38102.26
A14: Payment | B14: 600 | C14: Jan '22
A15: Interest | B15: 88.83 | C15: Jan'22
A16: Interest | B16: 87.84 | C16: Feb'22
A17: Payment | B17: 1000 | C17: March '22
A18: Interest | B18: 99.97 | C18: March '22
A19: Interest | B19: 105.13 | C19: April '22
A20: Interest | B20: 114.33 | C20: May '22
A21: Payment | B21: 500 | C21: June'22
A22: Interest | B22: 123.21 | C22: June'22
A23: Deduction | B23: -5000 | C23: July'22
A24: Interest | B24: 123.03 | C24: July'22
A25: Interest | B25: 135 | C25: Aug'22
... A75: Interest | B75: 402.52 | C75: 31 May'25
A76: Interest | B76: 496.68 | C76: 45838
A77: Interest | B77: 515.88 | C77: 45869
A78: Interest | B78: 500.66 | C78: 45899
A79: Interest | B79: 486.18 | C79: 30 Sep'25
A80: Interest | B80: 505.07 | C80: 31 Oct'25
A81: Interest | B81: 486.43 | C81: 30 Nov'25
A82: Interest | B82: 490.9 | C82: 31 Dec'25
A83: Interest | B83: 493.51 | C83: 46053
A84: Interest | B84: 448.12 | C84: 46081
A85: Interest | B85: 498.51 | C85: 46112
A86: Interest | B86: 484.99 | C86: 46142
A87: Interest | B87: 504.38 | C87: 46173
A88: Interest | B88: 509.67 | C88: 46203
A89: Interest | B89: 529.48 | C89: 46234
A90: Withdrawal - Rally | B90: -9000 | C90: 46259
...
